BEGIN:VCALENDAR
VERSION:2.0
PRODID:-//Contratero//ES
CALSCALE:GREGORIAN
METHOD:PUBLISH
BEGIN:VEVENT
UID:PA SE 1259/2025@contratero.es
DTSTAMP:20260420T072100Z
DTSTART:20260311T235959
DTEND:20260312T005959
SUMMARY:Cierre: Servicio de soporte y mantenimiento de licencias d
DESCRIPTION:Servicio de soporte y mantenimiento de licencias de software\, HCIS 3.10  estándar\, y distintas integraciones y customs de ámbito sanitario que necesita el Departamento de Salud de Manises\\n\\nOrganismo: Departamento de Salud de Manises. Dirección Económica-Gerencia\\n\\nVer en Contratero: https://contratero.es/contracts/PA SE 1259/2025
URL:https://contratero.es/contracts/PA SE 1259/2025
STATUS:CONFIRMED
BEGIN:VALARM
TRIGGER:-P1D
ACTION:DISPLAY
DESCRIPTION:Recordatorio: Servicio de soporte y mantenim
END:VALARM
END:VEVENT
END:VCALENDAR